0.0000458999
0.0000000070
0.0000000008
-0.0000380674
23.2283577245
-33.9837683761
