0.0000459153
0.0000000173
0.0000000146
-0.0000380587
23.2294284035
-33.9826454640
