0.0000459762
-0.0000000259
-0.0000000062
-0.0000380945
22.9776268887
-33.9837974161
