0.0000448461
-0.0000000148
0.0000000089
-0.0000380322
28.2297576148
-31.9856078885
