0.0000450625
-0.0000000142
-0.0000000041
-0.0000380670
27.4785721579
-32.4823791530
