0.0000445810
0.0000000256
0.0000000698
-0.0000381248
28.4776036226
-31.4824122632
