0.0000446697
-0.0000000015
0.0000000223
-0.0000380903
25.2292909245
-31.4867240826
