0.0000444461
0.0000000363
0.0000000431
-0.0000380467
25.7272421204
-31.2334335599
