0.0000418224
0.0000000083
0.0000000254
-0.0000382876
30.4800106032
-30.2302913497
