0.0000440708
0.0000000657
0.0000001264
-0.0000383879
30.7272616168
-29.4816563335
