0.0000433726
-0.0000000048
0.0000000412
-0.0000381515
24.4823950051
-28.4829261427
