0.0000431232
-0.0000000083
-0.0000000153
-0.0000381831
31.9796879572
-27.7256024962
