0.0000427323
-0.0000000040
0.0000000287
-0.0000380755
31.4835997610
-27.2355686124
