0.0000430490
0.0000000325
0.0000000620
-0.0000381073
29.7305798462
-27.7341289500
