0.0000425750
0.0000000209
0.0000000662
-0.0000380639
28.4814651878
-26.4848404759
