0.0000426804
0.0000000311
0.0000000378
-0.0000381188
27.9822979168
-26.7357075141
