0.0000423652
0.0000000084
0.0000000665
-0.0000380695
28.2273584962
-25.9732836958
