0.0000425309
-0.0000000049
0.0000000141
-0.0000380521
27.4810498121
-26.7342565250
